BEGIN:VCALENDAR
VERSION:2.0
PRODID:-//eventon.com NONSGML v1.0//EN
CALSCALE:GREGORIAN
METHOD:PUBLISH
BEGIN:VEVENT
UID:69e9d61067f85
DTSTAMP:20260423T081928Z
DTSTART:20230505T100000Z
DTEND:20230506T045000Z
LOCATION:Gruene Estate 1030 River Rd\,  New Braunfels\,  TX 78130
SUMMARY:Cinco de Mayo Party at Gruene Estate
DESCRIPTION:[vc_row][vc_column css=&#8221;.vc_custom_1679956301828{backgrou
 nd-color: #ffffff !important;}&#8221;][vc_single_image image=&#8221;26245&#
 8243; img_size=&#8221;full&#8221; alignment=&#8221;center&#8221;][vc_column
 _text] Two-step down to Gruene\,  Texas for a private party with Texas Coun
 try Duo Jolie and Sonny Burgess! On Cinco de Mayo\,  Gruene Estate will ope
 n their doors for 50 lucky guests to party with the acclaimed Texas Music s
 tars for a magical evening[..]\nhttps://heartgift.org/es/events/gruene/
URL:https://heartgift.org/es/events/gruene/
END:VEVENT
END:VCALENDAR