BEGIN:VCALENDAR
VERSION:2.0
PRODID:-//eventon.com NONSGML v1.0//EN
CALSCALE:GREGORIAN
METHOD:PUBLISH
BEGIN:VEVENT
UID:69e9d63b6f6f2
DTSTAMP:20260423T082011Z
DTSTART:20260328
DTEND:20260329
LOCATION:
SUMMARY:Party with a Purpose 2026
DESCRIPTION:\nhttps://heartgift.org/es/events/purpose2026/
URL:https://heartgift.org/es/events/purpose2026/
END:VEVENT
END:VCALENDAR