BEGIN:VCALENDAR
VERSION:2.0
PRODID:-//eventon.com NONSGML v1.0//EN
CALSCALE:GREGORIAN
METHOD:PUBLISH
BEGIN:VEVENT
UID:69e743d7e7d57
DTSTAMP:20260421T093103Z
DTSTART:20240426T160000Z
DTEND:20240426T230000Z
LOCATION:Bayou Oaks 1040 Filmore Ave
SUMMARY:Louisiana Golf Tournament
DESCRIPTION:[vc_row][vc_column][vc_single_image image=&#8221;26567&#8243; i
 mg_size=&#8221;full&#8221; alignment=&#8221;center&#8221; onclick=&#8221;im
 g_link_large&#8221;][/vc_column][/vc_row][vc_row][vc_column][vc_column_text
 ] Thank you for your interest in our Golf Tournament! Our teams are sold ou
 t\,  but we do have limited sponsorships still available.  Interested? Ple
 ase contact Erica Yaeger – eyaeger@heartgift.org | 504.564.3498 [/vc_colu
 mn_text][vc_separator color=&#8221;black&#8221;][vc_column_text] HeartGift 
 provides life-saving heart surgery to children around the world with congen
 ital[..]\nhttps://heartgift.org/events/nolagolf24/
URL:https://heartgift.org/events/nolagolf24/
END:VEVENT
END:VCALENDAR